BEGIN:VCALENDAR
VERSION:2.0
PRODID:spatie/icalendar-generator
NAME:READY FOR FUTURE FARMING! [FRUCHTWELT BODENSEE 2024]
X-WR-CALNAME:READY FOR FUTURE FARMING! [FRUCHTWELT BODENSEE 2024]
BEGIN:VTIMEZONE
TZID:Europe/Zurich
BEGIN:STANDARD
DTSTART:20231029T030000
TZOFFSETFROM:+0200
TZOFFSETTO:+0100
END:STANDARD
BEGIN:DAYLIGHT
DTSTART:20240331T020000
TZOFFSETFROM:+0100
TZOFFSETTO:+0200
END:DAYLIGHT
END:VTIMEZONE
BEGIN:VTIMEZONE
TZID:UTC
BEGIN:STANDARD
DTSTART:20250727T182327
TZOFFSETFROM:+0000
TZOFFSETTO:+0000
END:STANDARD
END:VTIMEZONE
BEGIN:VEVENT
UID:69ea639f5eec1
DTSTAMP:20260423T182327Z
DTSTART;TZID=Europe/Zurich:20240224T160000
DTEND;TZID=Europe/Zurich:20240224T162000
SUMMARY:READY FOR FUTURE FARMING! [FRUCHTWELT BODENSEE 2024]
DESCRIPTION:https://www.fruchtwelt-bodensee.de/de/e/ready-for-future-farmin
 g.46185\n\nEine klimaresiliente\, umweltfreundliche und ertragreiche Gemü
 seproduktion mit hydroponischen Systemen.
LOCATION:Halle B4\, Forum
END:VEVENT
END:VCALENDAR